Workbook
Name _Fill: #REF!
Name DAVID: #REF!
Name major: #REF!
Name TRANSFER: #REF!

Sheet COVER PAGE
A5: BILLS OF QUANTITIES
A8: FOR
A10: LEGAL AID OFFICE REFURBISHMENT
A13: FOR
A16: LEGAL AID
A18: AT
A20: 1 UITENHAGE ROAD, GQEBERHA
A39: MAY 2026

Sheet 1 - Ps & Gs
A1: ITEM NO | B1: DESCRIPTION | C1: UNIT | D1: QUANTITY | E1: RATE | F1: AMOUNT
B2: SECTION NO.1: PRELIMINARIES AND GENERAL
B4: PRELIMINARIES AND GENERAL
B6: SECTION A: PRINCIPAL BUILDING AGREEMENT
B8: Definitions (A1)
A10: 1 | B10: Definitions and interpretation (clause 1)F:............................. V:............................ T:............................ | C10: Item | D10: 1
B13: Objective and Preparation (A2)
A15: 2 | B15: Offer acceptance and performance (clause 2)F:............................. V:............................ T:............................ | C15: Item | D15: 1 | F15: =D15*E15 -> 0
A17: 3 | B17: Documents (clause 3)F:............................. V:............................ T:............................ | C17: Item | D17: 1 | F17: =D17*E17 -> 0
A20: 4 | B20: Design responsibility (clause 4)F:............................. V:............................ T:............................ | C20: Item | D20: 1 | F20: =D20*E20 -> 0
A22: 5 | B22: Employer's agents (clause 5)F:............................. V:............................ T:............................ | C22: Item | D22: 1 | F22: =D22*E22 -> 0
A24: 6 | B24: Contractor's Site representative (clause 6) F:............................. V:............................ T:............................ | C24: Item | D24: 1 | F24: =D24*E24 -> 0
A26: 7 | B26: Compliance with Laws and Regulations (clause 7) F:............................. V:............................ T:............................ | C26: Item | D26: 1 | F26: =D26*E26 -> 0
A29: 8 | B29: Works risk (clause 8)F:............................. V:............................ T:............................ | C29: Item | D29: 1 | F29: =D29*E29 -> 0
A31: 9 | B31: Indemnities (clause 9)F:............................. V:............................ T:............................ | C31: Item | D31: 1 | F31: =D31*E31 -> 0
A33: 10 | B33: Works insurances (clause 10) F:............................. V:............................ T:............................ | C33: Item | D33: 1
A35: 11 | B35: Liability insurances (clause 11) F:............................. V:............................ T:............................ | C35: Item | D35: 1
A37: 12 | B37: Effecting insurance (clause 12)F:............................. V:............................ T:............................ | C37: Item | D37: 1
A39: 13 | B39: NO CLAUSE F:............................. V:............................ T:............................ | C39: Item | D39: 1
A41: 14 | B41: Security (clause 14)F:............................. V:............................ T:............................ | C41: Item | D41: 1
B44: Execution (A15-A23)
A46: 15 | B46: Preparation for and execution of the works (clause 15) fixed F:............................. V:............................ T:............................ | C46: Item | D46: 1
B48: Sub-clause 15.1 is amended by replacing the words “Principal Agent” with the word “Employer”
A50: 16 | B50: Access to the works (clause 16) F:............................. V:............................ T:............................ | C50: Item | D50: 1
B52: CARRIED FORWARD | F52: =SUM(F10:F51) -> 0
B53: BROUGHT FORWARD | F53: =F52 -> 0
A55: 17 | B55: Contract instructions (clause 17)F:............................. V:............................ T:............................ | C55: Item | D55: 1
A57: 18 | B57: Setting out of the works (clause 18)F:............................. V:............................ T:............................ | C57: Item | D57: 1
A59: 19 | B59: Assignment(clause 19) F:............................. V:............................ T:............................ | C59: Item | D59: 1
A61: 20 | B61: Nominated subcontractors (clause 20)F:............................. V:............................ T:............................ | C61: Item | D61: 1
A63: 21 | B63: Selected subcontractors (clause 21)F:............................. V:............................ T:............................ | C63: Item | D63: 1
B65: Sub-clause 21.1.2 to 21.1.4 and 21.2 to 21.6 is amended by replacing it with: The contractor and Employer shall appoint a selected subcontractor in accordance with the provisions of the Scope of Work.
A67: 22 | B67: Employer's Direct Contractors (clause 22) F:..........N/A................... V:...........N/A................. T:..............N/A.............. | C67: Item | D67: 1
A69: 23 | B69: Contractor's Domestic Sub-Contractors (Clause 23) F:............................. V:............................ T:............................ | C69: Item | D69: 1
B72: Completion (A24-A30)
A74: 24 | B74: Practical completion (clause 24)F:............................. V:............................ T:............................ | C74: Item | D74: 1
A76: 25 | B76: Works completion (clause 25)F:............................. V:............................ T:............................ | C76: Item | D76: 1
A78: 26 | B78: Final completion (clause 26)F:............................. V:............................ T:............................ | C78: Item | D78: 1
A80: 27 | B80: Latent defects liability period (clause 27)F:............................. V:............................ T:............................ | C80: Item | D80: 1
A82: 28 | B82: Sectional completion (clause 28)F:............................. V:............................ T:............................ | C82: Item | D82: 1
...

Sheet 2 - BUILDING WKS
A1: ITEM NO | B1: DESCRIPTION | C1: UNIT | D1: QTY | E1: RATE | F1: AMOUNT
B2: SECTION NO. 2: BUILDING WORKS
B4: BILL NO. 1
B6: DEMOLITIONS AND ALTERATIONS
B8: Site inspection
B10: a). Contractors are required to inspect the site and acquaint themselves with all aspects of the works to be executed under this contract prior to the submission of their tender. No claim whatsoever will be entertained in the event of any unforeseen difficulties arising during the execution of the contract that could have been foreseen by a thorough investigation of the site, drawings and specifications.
B12: General
B14: a). The contractor shall carry out the whole of the The Works with as little mess and noise as possible and with a minimum of disturbance to adjoining premises and their tenants/occupants. He/She shall provide proper protection and provide, erect and maintain in position proper temporary tarpaulins that may be necessary to protect existing fixtures, fittings and furniture during the progress of the works and remove on completion or when directed, all to the satisfaction of the Project Manager.
B16: b). Water supply pipes and other piping that may be encountered and found necessary to disconnect or cut, shall be effectually stopped off or grubbed up and removed, and any new connections that may be necessary shall be made with proper fittings, to the satisfaction of the Project Manager.
B18: c). Prices for taking out and removing doors and frames shall include for removing door stops, cabin hooks, etc. and making good floor and wall finishes to match existing.
B20: d). With regards to building up of openings in existing walls, cement screeds and paving, granolithic, tops of walls, etc. shall be levelled and prepared for raising of bricwork.
B22: e). Making good finishes shall include making good of the brick and concrete surfaces onto which the new finishes are applied, where necessary
B24: f). The contractor will be required to take all dimensions affecting the existing buildings on the site and he will be held solely responsible for the accuracy of all such dimensions where used in the manufacture of new items (Doors, windows, fittings, etc)
... B30: Breaking down and removing brickwork etc.
A32: 1 | B32: Half brick wall | C32: m² | D32: =24+5 -> 29 | F32: =D32*E32 -> 0
A34: 2 | B34: One brick wall | C34: m² | D34: 9
A36: 3 | B36: Timber single door and steel frame not exceeding 2,5m² | C36: No | D36: 2
B39: CARRIED FORWARD | F39: =SUM(F2:F38) -> 0
B40: BROUGHT FORWARD | F40: =F39 -> 0
A42: 4 | B42: Glazed aluminium curtain wall size 18 021 x 4 000mm high. | C42: No | D42: 1
A44: 5 | B44: Glazed aluminium curtain wall size 5 270 x 4 000mm high. | C44: No | D44: 1
A46: 6 | B46: Glazed aluminium curtain wall size 2 620 x 4 000mm high. | C46: No | D46: 1
A48: 7 | B48: Suspended ceiling tiles including suspension grid, hangers, etc | C48: m² | D48: 266
A50: 8 | B50: Drywall partitioning 3200mm high including doors, ironmongery, glazed borrowed lights, etc | C50: m | D50: 56
B52: Hacking up/off and removing floor tiles and wall finishers including removing mortar bed or backing and preparing concrete or brick surfaces for new screed, plaster or tile finishers
A54: 9 | B54: Tiles to floors | C54: m² | D54: 266
A56: 10 | B56: Tiles to walls | C56: m² | D56: 13
B58: Taking out and removing glass and mirrors
A60: 11 | B60: Mirror not exceeding 1m² from wall | C60: No | D60: =2+1 -> 3
B62: Taking out and removing piping, sanitary fittings, etc, including cutting off as necessary, disconnecting piping from fittings and making good floor and wall finishes (making good tiling and paintwork elsewhere)
A64: 12 | B64: Toilet roller holder stainless steel | C64: No | D64: 2 | F64: =D64*E64 -> 0
A66: 13 | B66: Water closet suite complete | C66: No | D66: 2
A68: 14 | B68: Wash Hand Basins complete | C68: No | D68: 2 | F68: =D68*E68 -> 0
A70: 15 | B70: Wall mounted fire hose reel | C70: No | D70: 1
A72: 16 | B72: 15mm pipe including fittings etc | C72: m | D72: 16
A74: 17 | B74: 22mm pipe including fittings etc | C74: m | D74: 5
A76: 18 | B76: 50mm Pipes including fittings, pipe supports etc | C76: m | D76: 5 | F76: =D76*E76 -> 0
A78: 19 | B78: 110mm Pipes including fittings, pipe supports etc | C78: m | D78: 3
B80: CUTTING THROUGH FLOORS AND CEILINGS
A82: 20 | B82: Cutting through 100mm thick concrete surface bed for 460mm wide concrete wall footing including making good concrete on both sides of new half brick wall. | C82: m | D82: 16
...

Sheet SECTION 02 SUMMARY
B1: SECTION 02 SUMMARY - BUILDING WORKS
A3: 1 | B3: DEMOLITIONS AND ALTERATIONS | C3: ='2 - BUILDING WKS'!F108 -> 0
A5: 2 | B5: EARTHWORKS | C5: ='2 - BUILDING WKS'!F172 -> 0
A7: 3 | B7: CONCRETE, FORMWORK AND REINFORCEMENT | C7: ='2 - BUILDING WKS'!F217 -> 0
A9: 4 | B9: MASONRY | C9: ='2 - BUILDING WKS'!F266 -> 0
A11: 5 | B11: WATERPROOFING | C11: ='2 - BUILDING WKS'!F295 -> 0
A13: 6 | B13: CARPENTRY AND JOINERY | C13: ='2 - BUILDING WKS'!F331 -> 0
A15: 7 | B15: CEILINGS, PARTITIONS AND ACCESS FLOORING | C15: ='2 - BUILDING WKS'!F397 -> 0
A17: 8 | B17: IRONMONGERY | C17: ='2 - BUILDING WKS'!F454 -> 0
A19: 9 | B19: METALWORK | C19: ='2 - BUILDING WKS'!F515 -> 0
A21: 10 | B21: PLASTERING | C21: ='2 - BUILDING WKS'!F551 -> 0
A23: 11 | B23: TILING | C23: ='2 - BUILDING WKS'!F591 -> 0
A25: 12 | B25: PLUMBING AND DRAINAGE | C25: ='2 - BUILDING WKS'!F848 -> 0
A27: 13 | B27: GLAZING | C27: ='2 - BUILDING WKS'!F868 -> 0
A29: 14 | B29: PAINTWORK | C29: ='2 - BUILDING WKS'!F948 -> 0
B38: SECTION NO.2 TOTAL | C38: =SUM(C3:C29) -> 0

Sheet 3 - ELEC
A1: ITEM NO | B1: DESCRIPTION | C1: UNIT | D1: QTY | E1: RATE | F1: AMOUNT
B3: SECTION NO. 3: ELECTRICAL WORKS
B5: BILL NO. 1
B7: GROUND FLOOR
B9: GROUND FLOOR POWER LAYOUT
B10: NEW POWERING SYSTEM DESCRIPTION
B11: DISTRIBUTION BOARD
A13: 1 | B13: 100A 3 PHASE/POLE CIRCUIT BREAKER | C13: No. | D13: 1 | F13: =D13*E13 -> 0
A14: 2 | B14: 2 POLE 60A 30MA EARTH LEAKAGE | C14: No. | D14: 3 | F14: =D14*E14 -> 0
A15: 3 | B15: 20A SINGLE POLE CIRCUIT BREAKER | C15: No. | D15: 15 | F15: =D15*E15 -> 0
A16: 4 | B16: 25A SINGLE POLE CIRCUIT BREAKER | C16: No. | D16: 11 | F16: =D16*E16 -> 0
A17: 5 | B17: 10A SINGLE POLE CIRCUIT BREAKER | C17: No. | D17: 6 | F17: =D17*E17 -> 0
A18: 6 | B18: SINGLE POLE ISOLATOR | C18: No. | D18: 23 | F18: =D18*E18 -> 0
A19: 7 | B19: ELECTRIC HYDROBOILER | C19: No. | D19: 1 | F19: =D19*E19 -> 0
A20: 8 | B20: SINGLE LEVER SWITCH | C20: No. | D20: 25 | F20: =D20*E20 -> 0
A21: 9 | B21: SINGLE PLUG WITH EURO COMBINATION (SKIRTING MOUNTED) | C21: No. | D21: 40 | F21: =D21*E21 -> 0
A22: 10 | B22: SINGLE PLUG WITH EURO COMBINATION (WALL MOUNTED) | C22: No. | D22: 4 | F22: =D22*E22 -> 0
A23: 11 | B23: DOUBLE PLUGS FOR EMERGENCY BACKUP (SKIRTING MOUNTED) | C23: No. | D23: 19 | F23: =D23*E23 -> 0
A24: 12 | B24: DOUBLE PLUG WITH EURO COMBINATION (WALL MOUNTED) | C24: No. | D24: 2 | F24: =D24*E24 -> 0
... A35: 23 | B35: EQUAL OR SIMILAR APPROVED TO LEGRAND | C35: No. | D35: 2 | F35: =D35*E35 -> 0
B37: SUBTOTAL FOR MATERIALS | F37: =SUM(F13:F35) -> 0
B39: Allow for installation of all of the above | F39: =F37*0.35 -> 0
B44: BILL NO.1 TOTAL | F44: =SUM(F37:F39) -> 0
B46: BILL NO. 2
B48: EXISTING POWERING SYSTEM DESCRIPTION
B49: DISTRIBUTION BOARD
A50: 1 | B50: 20A SINGLE POLE CIRCUIT BREAKER | C50: No. | D50: 5
A51: 2 | B51: SINGLE POLE ISOLATOR | C51: No. | D51: 3
A52: 3 | B52: EXTRACTOR FAN | C52: No. | D52: 3
A53: 4 | B53: HAND DRYER | C53: No. | D53: 2
A54: 5 | B54: SINGLE PLUG WITH EURO COMBINATION | C54: No. | D54: 3
A55: 6 | B55: MOTION SENSOR | C55: No. | D55: 10
A56: 7 | B56: CEILING MOUNTED MOTION SENSOR | C56: No. | D56: 24
A57: 8 | B57: 300MM CABLE TRAY | C57: m | D57: 100
A58: 9 | B58: 10MM CABLE TRAY | C58: m | D58: 50
A59: 10 | B59: 20A SINGLE POLE CIRCUIT BREAKER | C59: No. | D59: 10
A60: 11 | B60: SINGLE LEVER SWITCH | C60: No. | D60: 25
A61: 12 | B61: CABLE TRACING | C61: days | D61: 10
B63: Automated gate
A65: 13 | B65: Supply, install, test, and commission one automated gate motors 1000kg , a complete access control system, remote controls, and all associated wiring, conduits, fittings, and accessories required for a fully operational system, including operator training. | C65: Item | D65: 2
...

Sheet 4 - HVAC
A1: SECTION NO. 4: HVAC WORKS
A3: BILL NO. 1
A5: GROUND FLOOR
A7: GROUND FLOOR AIRCON REPORT
A8: LOCATION | B8: FINDINGS | C8: QTY | D8: BTU UNIT SIZES | E8: RATE | F8: AMOUNT
A9: A1&A2 | B9: ASSESS, REPAIR AND MAINTAIN THE AIRCON(GROUND FLOOR) | C9: 2 | D9: 12000BTU
A10: A3 | B10: ASSESS, REPAIR AND MAINTAIN THE AIRCON(GROUND FLOOR) | C10: 1 | D10: 18000BTU
A11: A4,A5,A6,A13,A17,A18,A19,A20,K4 | B11: ASSESS, REPAIR AND MAINTAIN THE AIRCON(GROUND FLOOR) | C11: 9 | D11: 9000BTU
A12: A7 | B12: ASSESS, REPAIR AND MAINTAIN THE AIRCON(GROUND FLOOR) | C12: 1 | D12: 24000BTU
A13: A8,A10,A16,A21 | B13: SERVICE THE AIRCON(GROUND FLOOR ) | C13: 4 | D13: 9000BTU
A14: A11,A12,A14,A34,A32,B3,A9,A15 | B14: INSTALL NEW AIRCON(NEW OFFICE AREA AND EXISTING AREA) | C14: 8 | D14: 9000BTU
A15: A22,A23,A33,A26,A27,A28,A29,A30,A31,A24,I1,K3,A25 | B15: NEW 3 SPLIT TYPE AIRCON(NEW OFFICE AREA) | C15: 5 | D15: 36000BTU
A16: B2 | B16: INSTALL NEW AIRCON 2 SPLIT CEILING MOUNTED(NEW OFFICE AREA) | C16: 1 | D16: 30000BTU
A17: B1 | B17: REPLACE AND INSTALL THE CEILING MOUNTED AIRCON(GROUND FLOOR) | C17: 1 | D17: 18000BTU
A18: D11,D3,D4,E1,D2,D1,D9,D6,D5,E2 | B18: NEW EXTRACTION FAN INSTALLATION(KITCHEN &TOILET) | C18: 10 | D18: 11WATT
A19: K1 | B19: REPLACE AND INSTALL THE CEILING MOUNTED AIRCON (WAITING AREA) | C19: 1 | D19: 30000BTU
B20: BILL NO.1 TOTAL | F20: =SUM(F8:F19) -> 0
A21: BILL NO. 2
A23: FIRST FLOOR
A25: FIRST FLOOR AIRCON REPORT
A26: LOCATION | B26: FINDINGS | C26: QTY | D26: BTU UNIT SIZES | E26: RATE | F26: AMOUNT
A27: A1,A2,A3,A12,A11 | B27: SERVICE THE AIRCON AND INSTALL A NEW OUTDOOR UNIT, SECURE THE NEW OUTDOOR UNIT | C27: 5 | D27: 9000BTU
A28: A4,A10,A5 | B28: SERVICE THE AIRCON AND INSTALL A NEW OUTDOOR UNIT, SECURE THE NEW OUTDOOR UNIT | C28: 3 | D28: 12000BTU
A29: A6,A7,A8,A9,A13 | B29: SERVICE AIRCON AND SECURE THE NEW OUTDOOR UNIT | C29: 5 | D29: 9000BTU
A30: B1 | B30: INSTALL NEW AIRCON(KITCHEN AREA) | C30: 1 | D30: 36000BTU
A31: B2 | B31: INSTALL A 2-SPLIT UNIT CEILING MOUNTED AIRCON( OPEN SPACE) | C31: 1 | D31: 48000BTU
A32: B3,B4,B5 | B32: INSTALL A CASSET , CEILING MOUNTED AIRCON | C32: 3 | D32: 24000BTU
A33: D1,D2,D3,D5,D6,D6,D7,D10 | B33: INSTALLATION EXTRACTION FAN(KITCHEN & TOILET AREA) | C33: 7
A34: I1 | B34: INSTALL A CASSET , CEILING MOUNTED AIRCON | C34: 1 | D34: 30000BTU
B35: BILL NO.2 TOTAL
A38: BILL NO. 3
A40: PIPING, AND FITTINGS ETC
A42: LOCATION | B42: FINDINGS | C42: QTY | D42: UNIT SIZES | E42: RATE | F42: TOTAL PRICE
A43: 3.1 | B43: ALLOW THE AMOUNT R202,500.00 FOR COPPER PIPING AND INSTALLATION SOCKET KIT, GAS
B44: BILL NO.3 TOTAL | F44: =F43 -> 0
B50: SECTION 4 - SUMMARY OF HVAC INSTALLATIONS
A52: BILL NO. | B52: DESCRIPTION | F52: AMOUNT
A54: 1 | B54: GROUND FLOOR | F54: =F20 -> 0
A55: 2 | B55: FIRST FLOOR | F55: =F35 -> 0
A56: 3 | B56: PIPING, ETC | F56: =F44 -> 0
...

Sheet 5 - FIRE
A1: ITEM NO | B1: DESCRIPTION | C1: UNIT | D1: QTY | E1: RATE | F1: AMOUNT
B3: SECTION NO. 5: SMOKE SYSTEM
B5: BILL NO. 1
B7: SUPPLY AND INSTALL THE FOLLOWING:
A9: 1 | B9: PHOTOLUMINESCENT SIGN IN ALUMINIUM FRAME (MINIMUM 290MM HEIGHT) AND HANGERS, OR MOUNTING ACCESSORIES | C9: No. | D9: 50
A10: 2 | B10: SUPPLY SMOKE DETECTORS AND INSTALL PANELS WITH FIRE RESISTING OF PH 120 | C10: Lot | D10: 1
A11: 3 | B11: SMOKE CABLING (200m) WITH FIRE RESISTING PH120 | C11: m | D11: 200 | F11: =D11*E11 -> 0
A12: 4 | B12: SMOKE DETECTORS | C12: No. | D12: 90
A13: 5 | B13: ADDRESSABLE FIRE CONTROL PANEL | C13: No. | D13: 1 | F13: =D13*E13 -> 0
A14: 6 | B14: MANUAL CALL POINTS | C14: Lot | D14: 1 | F14: =D14*E14 -> 0
A15: 7 | B15: FIRE HYDRANT | C15: No. | D15: 1 | F15: =D15*E15 -> 0
A16: 8 | B16: SOUND BEACONS FROM 80DB UP TO 120 DB | C16: No. | D16: 12 | F16: =D16*E16 -> 0
A17: 9 | B17: SUPPLY OF 110mm Pipe | C17: m | D17: 80
B23: SECTION NO. 5 TOTAL | F23: =SUM(F8:F19) -> 0

Sheet 6 - PROVISIONAL SUMS
A1: ITEM NO | B1: DESCRIPTION | C1: UNIT | D1: RATE | E1: AMOUNT
B3: SECTION NO. 3: PROVISIONAL SUMS & BUDGETARY ALLOWANCES
B5: BILL NO. 1
B7: NOMINATED SUB-CONTRACTS
B9: The following Provisional Amounts are for work to be done by firms of specialists and will be regarded as Nominated Sub-contractors to the Contractor. The Contractor must obtain quotations from approved firms and submit them to the Agent/Representative for his approval
B11: CASH DISCOUNT
B13: No cash discount. All provisional sums are "NET".
B15: ATTENDANCE
B17: Without in any way limiting the meaning and interpretation, "general attendance" on sub-contractors shall include free of charge to the sub-contractor the following services for the purpose of the relative sub-contract works:
B19: 1) access to the site and to the places where the work is to be carried out,including the use of any temporary personnel hoists erected by the Contractor for his own use;
B21: 2) the provision of water and lighting and of single and/or three phase electric power to a position within 50 metres of the place where work is to be carried out, but excluding water, fuel and power for commissioning of the installation for which the Contractor shall be responsible;
B23: 3) the provision of an area for office accommodation, temporary workshops and for the storage of plant and materials;
B25: 4) the use of erected scaffolding belonging to the Contractor, in common with others having the like right whilst it so remains erected upon the site;
... B37: 10) making good in all trades and final cleaning down on completion.
B40: CARRIED FORWARD | E40: 0
B41: BROUGHT FORWARD | E41: =E40 -> 0
B43: The cost of fuel, power and water for the commissioning of plant shall be borne by the sub-contractor appointed for the relevant sub-contract works in terms of the conditions under which they have/are contract for the specialist work involved. The contractor shall allow opposite this item or under the relevant attendance items for the recovery of such costs via the installation of the necessary metres, etc.
B45: PROVISIONAL SUMS
B47: ELECTRONIC WORKS
A49: 1 | B49: Provide the amount of R273,500.00 for electronic works (access control, CCTV, public address, data installation, WiFi, PABX or other similar product) to be expended as the Agent/Representative may direct or deduct in whole or in part, if not required | C49: Item | D49: 1 | E49: 273500
A51: 2 | B51: Allow for Profit on cost if required | C51: % | E51: =E49*D51 -> 0
B54: FURNITURE
A56: 3 | B56: Provide the amount of R287,000.00 for furniture (chairs, desks, couches, benches, office features) to be expended as the Agent/Representative may direct or deduct in whole or in part, if not required | C56: Item | D56: 1 | E56: 287000
A58: 4 | B58: Allow for profit | C58: % | E58: =E56*D58 -> 0
B61: BUILT IN CUPBOARDS & MOVABLE CABINETS
A63: 5 | B63: Provide the amount of R270,200.00 for BICs and cabinets (office cupboards, kitchen cupboards and countertops, bathroom cupboards and countertops) to be expended as the Agent/Representative may direct or deduct in whole or in part, if not required | C63: Item | D63: 1 | E63: 270200
A65: 6 | B65: Allow for profit | C65: % | E65: =E63*D65 -> 0
B68: REPAIRS TO CARPORT
A70: 7 | B70: REPAIRS TO CARPORT
A72: 8 | B72: Provide the amount of R620 000, for alterations and design to the carport roof to be expended as the Agent/Representative may direct or deduct in whole or in part, if not required | C72: Item | D72: 1 | E72: 620000
A74: 9 | B74: Allow for Profit | C74: % | E74: =E72*D74 -> 0
B78: CARRIED FORWARD | E78: =SUM(E41:E75) -> 1450700
B79: BROUGHT FORWARD | E79: =E78 -> 1450700
B84: ASBESTOS CEMENT EXTERNAL ROOF FASCIA
A86: 10 | B86: Provide the amount of R1,200 000.00 for removing and replacing external asbestos cement roof fascia with new fibre cement fascia, to be expended as the Agent/Representative may direct or deduct in whole or in part, if not required | C86: Item | D86: 1 | E86: 1200000
A88: 11 | B88: Allow for profit | C88: % | E88: =E86*D88 -> 0
B91: BUDGETARY ALLOWANCES
B93: SUNDRY BUILDER'S WORK
A95: 12 | B95: Provide the amount of R20,000.00 for sundry builder's work to be expended as the Agent/Representative may direct or deduct in whole or in part, if not required | C95: Item | D95: 1 | E95: 20000
A96: 13 | B96: Allow for profit | C96: % | E96: =E94*D96 -> 0
...

Sheet 7 - FINAL SUMMARY
A2: PROJECT : LEGAL AID OFFICE REFURBISHMENT
A5: FINAL SUMMARY
F7: AMOUNT
F8: R
A10: SECTION 01: PRELIMINARIES AND GENERAL | F10: ='1 - Ps & Gs'!F613 -> 0
A12: SECTION 02: BUILDING WORKS | F12: ='SECTION 02 SUMMARY'!C38 -> 0
A14: SECTION 03: ELECTRICAL WORKS
A16: SECTION 04: HVAC
A18: SECTION 05: FIRE SYSTEM | F18: ='5 - FIRE'!F23 -> 0
A20: SECTION 06: PROVISIONAL SUMS & BUDGETARY ALLOWANCES | F20: ='6 - PROVISIONAL SUMS'!E112 -> 2870700
A23: SUBTOTAL 1
A25: Contingencies @ 5% | F25: =ROUND(F23*5%,2) -> 0
A28: SUBTOTAL 2 | F28: =F23+F25 -> 0
A30: Value added tax (VAT) @ 15% | F30: =ROUND(F28*15%,2) -> 0
A45: TOTAL CARRIED TO FORM OF OFFER | F45: =SUM(F28:F31) -> 0
